Imagery includes 2023 EagleView flight, and a portion of the 2023 NAIP Imagery in the Cultus Mountain Watershed area.<\/span><\/p>
<\/span><\/div><\/div><\/div><\/div><\/div><\/div><\/div><\/div>
<\/div><\/div>",
"mapName": "SkagitAerial2023",
"description": "Imagery includes 2023 EagleView flight, and a portion of the 2023 NAIP Imagery in the Cultus Mountain Watershed area.",
"copyrightText": "",
"supportsDynamicLayers": true,
"layers": [
{
"id": 25,
"name": "Roads/Labels",
"parentLayerId": -1,
"defaultVisibility": true,
"subLayerIds": [
26,
27,
28,
29,
30,
31,
32,
33,
34,
35
],
"minScale": 500000,
"maxScale": 0,
"type": "Group Layer",
"supportsDynamicLegends": false
},
{
"id": 26,
"name": "250k",
"parentLayerId": 25,
"defaultVisibility": true,
"subLayerIds": null,
"minScale": 499999,
"maxScale": 250000,
"type": "Feature Layer",
"geometryType": "esriGeometryPolyline",
"supportsDynamicLegends": true
},
{
"id": 27,
"name": "100k",
"parentLayerId": 25,
"defaultVisibility": true,
"subLayerIds": null,
"minScale": 249999,
"maxScale": 100000,
"type": "Feature Layer",
"geometryType": "esriGeometryPolyline",
"supportsDynamicLegends": true
},
{
"id": 28,
"name": "50k",
"parentLayerId": 25,
"defaultVisibility": true,
"subLayerIds": null,
"minScale": 99999,
"maxScale": 50000,
"type": "Feature Layer",
"geometryType": "esriGeometryPolyline",
"supportsDynamicLegends": true
},
{
"id": 29,
"name": "25k",
"parentLayerId": 25,
"defaultVisibility": true,
"subLayerIds": null,
"minScale": 49999,
"maxScale": 25000,
"type": "Feature Layer",
"geometryType": "esriGeometryPolyline",
"supportsDynamicLegends": true
},
{
"id": 30,
"name": "10k",
"parentLayerId": 25,
"defaultVisibility": true,
"subLayerIds": null,
"minScale": 24999,
"maxScale": 10000,
"type": "Feature Layer",
"geometryType": "esriGeometryPolyline",
"supportsDynamicLegends": true
},
{
"id": 31,
"name": "5k",
"parentLayerId": 25,
"defaultVisibility": true,
"subLayerIds": null,
"minScale": 9999,
"maxScale": 5000,
"type": "Feature Layer",
"geometryType": "esriGeometryPolyline",
"supportsDynamicLegends": true
},
{
"id": 32,
"name": "2.5k",
"parentLayerId": 25,
"defaultVisibility": true,
"subLayerIds": null,
"minScale": 4999,
"maxScale": 2500,
"type": "Feature Layer",
"geometryType": "esriGeometryPolyline",
"supportsDynamicLegends": true
},
{
"id": 33,
"name": "1.75k",
"parentLayerId": 25,
"defaultVisibility": true,
"subLayerIds": null,
"minScale": 2499,
"maxScale": 1750,
"type": "Feature Layer",
"geometryType": "esriGeometryPolyline",
"supportsDynamicLegends": true
},
{
"id": 34,
"name": "1k",
"parentLayerId": 25,
"defaultVisibility": true,
"subLayerIds": null,
"minScale": 1749,
"maxScale": 1000,
"type": "Feature Layer",
"geometryType": "esriGeometryPolyline",
"supportsDynamicLegends": true
},
{
"id": 35,
"name": "500",
"parentLayerId": 25,
"defaultVisibility": true,
"subLayerIds": null,
"minScale": 999,
"maxScale": 50,
"type": "Feature Layer",
"geometryType": "esriGeometryPolyline",
"supportsDynamicLegends": true
},
{
"id": 11,
"name": "Cultus Watershed Area (NAIP 2023)",
"parentLayerId": -1,
"defaultVisibility": true,
"subLayerIds": null,
"minScale": 0,
"maxScale": 0,
"type": "Raster Layer",
"supportsDynamicLegends": true
},
{
"id": 13,
"name": "2023 Pictometry - 3 Inch",
"parentLayerId": -1,
"defaultVisibility": true,
"subLayerIds": null,
"minScale": 0,
"maxScale": 0,
"type": "Raster Layer",
"supportsDynamicLegends": true
}
],
"tables": [],
"spatialReference": {
"wkid": 102748,
"latestWkid": 2285,
"xyTolerance": 0.003280833333333333,
"zTolerance": 0.001,
"mTolerance": 0.001,
"falseX": -117104300,
"falseY": -99539600,
"xyUnits": 3.792674222403606E7,
"falseZ": -100000,
"zUnits": 10000,
"falseM": -100000,
"mUnits": 10000
},
"singleFusedMapCache": true,
"tileInfo": {
"rows": 256,
"cols": 256,
"dpi": 96,
"format": "MIXED",
"compressionQuality": 85,
"origin": {
"x": -117104300,
"y": 137949800
},
"spatialReference": {
"wkid": 102748,
"latestWkid": 2285,
"xyTolerance": 0.003280833333333333,
"zTolerance": 0.001,
"mTolerance": 0.001,
"falseX": -117104300,
"falseY": -99539600,
"xyUnits": 3.792674222403606E7,
"falseZ": -100000,
"zUnits": 10000,
"falseM": -100000,
"mUnits": 10000
},
"lods": [
{
"level": 0,
"resolution": 434.02777777777777,
"scale": 500000
},
{
"level": 1,
"resolution": 217.01388888888889,
"scale": 250000
},
{
"level": 2,
"resolution": 86.80555555555556,
"scale": 100000
},
{
"level": 3,
"resolution": 43.40277777777778,
"scale": 50000
},
{
"level": 4,
"resolution": 21.70138888888889,
"scale": 25000
},
{
"level": 5,
"resolution": 8.680555555555555,
"scale": 10000
},
{
"level": 6,
"resolution": 4.340277777777778,
"scale": 5000
},
{
"level": 7,
"resolution": 2.170138888888889,
"scale": 2500
},
{
"level": 8,
"resolution": 1.519097222222222,
"scale": 1750
},
{
"level": 9,
"resolution": 0.8680555555555555,
"scale": 1000
},
{
"level": 10,
"resolution": 0.43402777777777773,
"scale": 500
},
{
"level": 11,
"resolution": 0.21701388888888887,
"scale": 250
},
{
"level": 12,
"resolution": 0.08680555555555555,
"scale": 100
},
{
"level": 13,
"resolution": 0.043402777777777776,
"scale": 50
},
{
"level": 14,
"resolution": 0.021701388888888888,
"scale": 25
}
]
},
"storageInfo": {
"storageFormat": "esriMapCacheStorageModeCompactV2",
"packetSize": 128
},
"initialExtent": {
"xmin": 1138945.236111111,
"ymin": 371787.54166666657,
"xmax": 1631566.763888889,
"ymax": 729860.4583333335,
"spatialReference": {
"wkid": 102748,
"latestWkid": 2285,
"xyTolerance": 0.003280833333333333,
"zTolerance": 0.001,
"mTolerance": 0.001,
"falseX": -117104300,
"falseY": -99539600,
"xyUnits": 3.792674222403606E7,
"falseZ": -100000,
"zUnits": 10000,
"falseM": -100000,
"mUnits": 10000
}
},
"fullExtent": {
"xmin": 1176696.0000000745,
"ymin": 463703.99999999447,
"xmax": 1664513.0678698868,
"ymax": 637944.0000000016,
"spatialReference": {
"wkid": 102748,
"latestWkid": 2285,
"xyTolerance": 0.003280833333333333,
"zTolerance": 0.001,
"mTolerance": 0.001,
"falseX": -117104300,
"falseY": -99539600,
"xyUnits": 3.792674222403606E7,
"falseZ": -100000,
"zUnits": 10000,
"falseM": -100000,
"mUnits": 10000
}
},
"datesInUnknownTimezone": false,
"minScale": 500000,
"maxScale": 25,
"minLOD": 0,
"maxLOD": 13,
"units": "esriFeet",
"supportedImageFormatTypes": "PNG32,PNG24,PNG,JPG,DIB,TIFF,EMF,PS,PDF,GIF,SVG,SVGZ,BMP",
"documentInfo": {
"Title": "SkagitAerial2023",
"Author": "",
"Comments": "Imagery includes 2023 EagleView flight, 2019 drone flight of WTP grounds, and 2021 imagery of the Cultus Mountain Watershed",
"Subject": "2023 Aerial Imagery Tile Cache",
"Category": "",
"AntialiasingMode": "Fast",
"TextAntialiasingMode": "Force",
"Version": "2.9.0",
"Keywords": "2023"
},
"supportsQueryDomains": true,
"capabilities": "Map",
"supportedQueryFormats": "JSON, geoJSON, PBF",
"hasVersionedData": true,
"exportTilesAllowed": false,
"referenceScale": 0.0,
"datumTransformations": [
{
"geoTransforms": [
{
"wkid": 108190,
"latestWkid": 108190,
"transformForward": true,
"name": "WGS_1984_(ITRF00)_To_NAD_1983"
}
]
},
{
"geoTransforms": [
{
"wkid": 108190,
"latestWkid": 108190,
"transformForward": false,
"name": "WGS_1984_(ITRF00)_To_NAD_1983"
}
]
}
],
"supportsDatumTransformation": true,
"floorAwareMapProperties": {
"defaultFloorFilterSettings": {"isEnabled": false}
},
"archivingInfo": {"supportsHistoricMoment": false},
"supportsClipping": true,
"supportsSpatialFilter": true,
"supportsTimeRelation": true,
"supportsQueryDataElements": true,
"maxRecordCount": 2000,
"maxImageHeight": 4096,
"maxImageWidth": 4096,
"supportedExtensions": "",
"resampling": false,
"serviceItemId": "c2084ff1cb08479d9bafa355050b011f"
}